BEGIN:VCALENDAR
VERSION:2.0
PRODID:spatie/icalendar-generator
DESCRIPTION:Events from Weaving Our Worlds
X-WR-CALDESC:Events from Weaving Our Worlds
REFRESH-INTERVAL;VALUE=DURATION:PT1440M
X-PUBLISHED-TTL:PT1440M
BEGIN:VTIMEZONE
TZID:America/Vancouver
BEGIN:DAYLIGHT
DTSTART:20250309T020000Z
TZOFFSETFROM:-0800
TZOFFSETTO:-0700
END:DAYLIGHT
BEGIN:STANDARD
DTSTART:20251102T020000Z
TZOFFSETFROM:-0700
TZOFFSETTO:-0800
END:STANDARD
BEGIN:DAYLIGHT
DTSTART:20260308T020000Z
TZOFFSETFROM:-0800
TZOFFSETTO:-0700
END:DAYLIGHT
END:VTIMEZONE
BEGIN:VTIMEZONE
TZID:UTC
BEGIN:STANDARD
DTSTART:20250724T100014Z
TZOFFSETFROM:+0000
TZOFFSETTO:+0000
END:STANDARD
END:VTIMEZONE
BEGIN:VEVENT
UID:17-15
DTSTAMP:20260420T100014Z
SUMMARY:Solidarity through Detention Walls
LOCATION:Surrey Immigration Holding Centre 13130 76 Ave  Surrey BC  V3W 2V6
ORGANIZER;CN=weavingourworlds:MAILTO:weavingourworlds@proton.me
DTSTART;TZID=America/Vancouver:20251031T190000
DTEND;TZID=America/Vancouver:20251031T210000
X-ALT-DESC;FMTTYPE=TEXT/HTML:Artist Credit: Olly Costello 🗓️ Friday\, 
 October 31 at 7 pm 📍Surrey Immigration Holding Centre\, 13130 76 Ave\, 
 Surrey\, BC V3W 2V6\, Coast Salish Territories including the q̓ic̓əy̓ 
 (Katzie)\, q̓ʷɑ:n̓ƛ̓ən̓ (Kwantlen)\, and Semiahma (Semiahmoo) peop
 les 🎭 Wear a costume (no appropriation etc!) Immigration Detention Cent
 res are designed to enact violence. They are sites of fear\,&amp;hellip\;
CATEGORIES:General
URL;VALUE=URI:https://www.weavingourworlds.ca/mc-events/solidarity-through-
 detention-walls/
METHOD:PUBLISH
END:VEVENT
END:VCALENDAR