BEGIN:VCALENDAR
VERSION:2.0
PRODID:spatie/icalendar-generator
DESCRIPTION:Events from Weaving Our Worlds
X-WR-CALDESC:Events from Weaving Our Worlds
REFRESH-INTERVAL;VALUE=DURATION:PT1440M
X-PUBLISHED-TTL:PT1440M
BEGIN:VTIMEZONE
TZID:America/Vancouver
BEGIN:DAYLIGHT
DTSTART:20250309T020000Z
TZOFFSETFROM:-0800
TZOFFSETTO:-0700
END:DAYLIGHT
BEGIN:STANDARD
DTSTART:20251102T020000Z
TZOFFSETFROM:-0700
TZOFFSETTO:-0800
END:STANDARD
BEGIN:DAYLIGHT
DTSTART:20260308T020000Z
TZOFFSETFROM:-0800
TZOFFSETTO:-0700
END:DAYLIGHT
END:VTIMEZONE
BEGIN:VTIMEZONE
TZID:UTC
BEGIN:STANDARD
DTSTART:20250724T083958Z
TZOFFSETFROM:+0000
TZOFFSETTO:+0000
END:STANDARD
END:VTIMEZONE
BEGIN:VEVENT
UID:16-14
DTSTAMP:20260420T083958Z
SUMMARY:Managing Occupation Through the Politics of Recognition
LOCATION:1803 East 1st Ave\, off Commercial. xʷməθkʷəy̓əm\, Sḵwx̱
 wú7mesh &amp;amp\; səlilwətaɬ lands 1803 East 1st Ave  Vancouver BC V5N 1B
 2
ORGANIZER;CN=weavingourworlds:MAILTO:weavingourworlds@proton.me
DTSTART;TZID=America/Vancouver:20251016T180000
DTEND;TZID=America/Vancouver:20251016T203000
X-ALT-DESC;FMTTYPE=TEXT/HTML:Managing Occupation Through the Politics of Re
 cognition ⭐Registration required: https://actionnetwork.org/events/polit
 ics-of-recognition 🗓 Thursday\, October 16 at 6 pm ⏰ Starts with ligh
 t meal by Tamam: Fine Palestinian Cuisine 😷 Food will be put away and b
 oxed at 6:30 pm so people remain masked 📍1803 East 1st Ave. xʷməθkʷ
 əy̓əm\, Sḵwx̱wú7mesh &amp;amp\; səlilwətaɬ lands Managing Occupation
  Through the&amp;hellip\;
CATEGORIES:General
URL;VALUE=URI:https://www.weavingourworlds.ca/mc-events/managing-occupation
 -through-the-politics-of-recognition/
METHOD:PUBLISH
END:VEVENT
END:VCALENDAR